Workbook

Sheet 2 Month Calendar
B2: 2 Month Calendar | T2: =IF(Holidays!A2="","",Holidays!A2) -> 46023
B3: Year: | C3: =YEAR(TODAY()) -> 2026 | D3: First month: | F3: =INDEX({"January","February","March","April","May","June","July","August","September","October","November","December"},MONTH(TODAY())) -> October | H3: Week starts on: | K3: Sunday | L3: Change the yellow cells. | R3: =MATCH(F3,{"January","February","March","April","May","June","July","August","September","October","November","December"},0) -> 10 | T3: =IF(Holidays!A3="","",Holidays!A3) -> 46041
R4: =DATE(C3,$R$3+0,1) -> 46296 | S4: =R4-WEEKDAY(R4,IF(K3="Monday",2,1))+1 -> 46292 | T4: =IF(Holidays!A4="","",Holidays!A4) -> 46069
B5: =$R$4 -> 46296 | J5: =$R$5 -> 46327 | R5: =DATE(C3,$R$3+1,1) -> 46327 | S5: =R5-WEEKDAY(R5,IF(K3="Monday",2,1))+1 -> 46327 | T5: =IF(Holidays!A5="","",Holidays!A5) -> 46167
B6: =$S$4+0 -> 46292 | C6: =$S$4+1 -> 46293 | D6: =$S$4+2 -> 46294 | E6: =$S$4+3 -> 46295 | F6: =$S$4+4 -> 46296 | G6: =$S$4+5 -> 46297 | H6: =$S$4+6 -> 46298 | J6: =$S$5+0 -> 46327 | K6: =$S$5+1 -> 46328 | L6: =$S$5+2 -> 46329 | M6: =$S$5+3 -> 46330 | N6: =$S$5+4 -> 46331 | O6: =$S$5+5 -> 46332 | P6: =$S$5+6 -> 46333 | T6: =IF(Holidays!A6="","",Holidays!A6) -> 46192
B7: =$S$4+0 -> 46292 | C7: =$S$4+1 -> 46293 | D7: =$S$4+2 -> 46294 | E7: =$S$4+3 -> 46295 | F7: =$S$4+4 -> 46296 | G7: =$S$4+5 -> 46297 | H7: =$S$4+6 -> 46298 | J7: =$S$5+0 -> 46327 | K7: =$S$5+1 -> 46328 | L7: =$S$5+2 -> 46329 | M7: =$S$5+3 -> 46330 | N7: =$S$5+4 -> 46331 | O7: =$S$5+5 -> 46332 | P7: =$S$5+6 -> 46333 | T7: =IF(Holidays!A7="","",Holidays!A7) -> 46206
T8: =IF(Holidays!A8="","",Holidays!A8) -> 46207
B9: =$S$4+7 -> 46299 | C9: =$S$4+8 -> 46300 | D9: =$S$4+9 -> 46301 | E9: =$S$4+10 -> 46302 | F9: =$S$4+11 -> 46303 | G9: =$S$4+12 -> 46304 | H9: =$S$4+13 -> 46305 | J9: =$S$5+7 -> 46334 | K9: =$S$5+8 -> 46335 | L9: =$S$5+9 -> 46336 | M9: =$S$5+10 -> 46337 | N9: =$S$5+11 -> 46338 | O9: =$S$5+12 -> 46339 | P9: =$S$5+13 -> 46340 | T9: =IF(Holidays!A9="","",Holidays!A9) -> 46272
T10: =IF(Holidays!A10="","",Holidays!A10) -> 46307
B11: =$S$4+14 -> 46306 | C11: =$S$4+15 -> 46307 | D11: =$S$4+16 -> 46308 | E11: =$S$4+17 -> 46309 | F11: =$S$4+18 -> 46310 | G11: =$S$4+19 -> 46311 | H11: =$S$4+20 -> 46312 | J11: =$S$5+14 -> 46341 | K11: =$S$5+15 -> 46342 | L11: =$S$5+16 -> 46343 | M11: =$S$5+17 -> 46344 | N11: =$S$5+18 -> 46345 | O11: =$S$5+19 -> 46346 | P11: =$S$5+20 -> 46347 | T11: =IF(Holidays!A11="","",Holidays!A11) -> 46337
T12: =IF(Holidays!A12="","",Holidays!A12) -> 46352
B13: =$S$4+21 -> 46313 | C13: =$S$4+22 -> 46314 | D13: =$S$4+23 -> 46315 | E13: =$S$4+24 -> 46316 | F13: =$S$4+25 -> 46317 | G13: =$S$4+26 -> 46318 | H13: =$S$4+27 -> 46319 | J13: =$S$5+21 -> 46348 | K13: =$S$5+22 -> 46349 | L13: =$S$5+23 -> 46350 | M13: =$S$5+24 -> 46351 | N13: =$S$5+25 -> 46352 | O13: =$S$5+26 -> 46353 | P13: =$S$5+27 -> 46354 | T13: =IF(Holidays!A13="","",Holidays!A13) -> 46381
T14: =IF(Holidays!A14="","",Holidays!A14) -> 46388
B15: =$S$4+28 -> 46320 | C15: =$S$4+29 -> 46321 | D15: =$S$4+30 -> 46322 | E15: =$S$4+31 -> 46323 | F15: =$S$4+32 -> 46324 | G15: =$S$4+33 -> 46325 | H15: =$S$4+34 -> 46326 | J15: =$S$5+28 -> 46355 | K15: =$S$5+29 -> 46356 | L15: =$S$5+30 -> 46357 | M15: =$S$5+31 -> 46358 | N15: =$S$5+32 -> 46359 | O15: =$S$5+33 -> 46360 | P15: =$S$5+34 -> 46361 | T15: =IF(Holidays!A15="","",Holidays!A15) -> 46405
T16: =IF(Holidays!A16="","",Holidays!A16) -> 46433
B17: =$S$4+35 -> 46327 | C17: =$S$4+36 -> 46328 | D17: =$S$4+37 -> 46329 | E17: =$S$4+38 -> 46330 | F17: =$S$4+39 -> 46331 | G17: =$S$4+40 -> 46332 | H17: =$S$4+41 -> 46333 | J17: =$S$5+35 -> 46362 | K17: =$S$5+36 -> 46363 | L17: =$S$5+37 -> 46364 | M17: =$S$5+38 -> 46365 | N17: =$S$5+39 -> 46366 | O17: =$S$5+40 -> 46367 | P17: =$S$5+41 -> 46368 | T17: =IF(Holidays!A17="","",Holidays!A17) -> 46538
T18: =IF(Holidays!A18="","",Holidays!A18) -> 46556
B19: =IFERROR(TEXT(INDEX(Holidays!$A$2:$A$189,MATCH((YEAR($R$4)*100+MONTH($R$4))*100+1,Holidays!$E$2:$E$189,0)),"mmm d")&" "&INDEX(Holidays!$B$2:$B$189,MATCH((YEAR($R$4)*100+MONTH($R$4))*100+1,Holidays!$E$2:$E$189,0)),"") -> Oct 12 Columbus Day | J19: =IFERROR(TEXT(INDEX(Holidays!$A$2:$A$189,MATCH((YEAR($R$5)*100+MONTH($R$5))*100+1,Holidays!$E$2:$E$189,0)),"mmm d")&" "&INDEX(Holidays!$B$2:$B$189,MATCH((YEAR($R$5)*100+MONTH($R$5))*100+1,Holidays!$E$2:$E$189,0)),"") -> Nov 11 Veterans Day | T19: =IF(Holidays!A19="","",Holidays!A19) -> 46557
B20: =IFERROR(TEXT(INDEX(Holidays!$A$2:$A$189,MATCH((YEAR($R$4)*100+MONTH($R$4))*100+2,Holidays!$E$2:$E$189,0)),"mmm d")&" "&INDEX(Holidays!$B$2:$B$189,MATCH((YEAR($R$4)*100+MONTH($R$4))*100+2,Holidays!$E$2:$E$189,0)),"") | J20: =IFERROR(TEXT(INDEX(Holidays!$A$2:$A$189,MATCH((YEAR($R$5)*100+MONTH($R$5))*100+2,Holidays!$E$2:$E$189,0)),"mmm d")&" "&INDEX(Holidays!$B$2:$B$189,MATCH((YEAR($R$5)*100+MONTH($R$5))*100+2,Holidays!$E$2:$E$189,0)),"") -> Nov 26 Thanksgiving Day | T20: =IF(Holidays!A20="","",Holidays!A20) -> 46572
B21: =IFERROR(TEXT(INDEX(Holidays!$A$2:$A$189,MATCH((YEAR($R$4)*100+MONTH($R$4))*100+3,Holidays!$E$2:$E$189,0)),"mmm d")&" "&INDEX(Holidays!$B$2:$B$189,MATCH((YEAR($R$4)*100+MONTH($R$4))*100+3,Holidays!$E$2:$E$189,0)),"") | J21: =IFERROR(TEXT(INDEX(Holidays!$A$2:$A$189,MATCH((YEAR($R$5)*100+MONTH($R$5))*100+3,Holidays!$E$2:$E$189,0)),"mmm d")&" "&INDEX(Holidays!$B$2:$B$189,MATCH((YEAR($R$5)*100+MONTH($R$5))*100+3,Holidays!$E$2:$E$189,0)),"") | T21: =IF(Holidays!A21="","",Holidays!A21) -> 46573
B22: =IFERROR(TEXT(INDEX(Holidays!$A$2:$A$189,MATCH((YEAR($R$4)*100+MONTH($R$4))*100+4,Holidays!$E$2:$E$189,0)),"mmm d")&" "&INDEX(Holidays!$B$2:$B$189,MATCH((YEAR($R$4)*100+MONTH($R$4))*100+4,Holidays!$E$2:$E$189,0)),"") | J22: =IFERROR(TEXT(INDEX(Holidays!$A$2:$A$189,MATCH((YEAR($R$5)*100+MONTH($R$5))*100+4,Holidays!$E$2:$E$189,0)),"mmm d")&" "&INDEX(Holidays!$B$2:$B$189,MATCH((YEAR($R$5)*100+MONTH($R$5))*100+4,Holidays!$E$2:$E$189,0)),"") | T22: =IF(Holidays!A22="","",Holidays!A22) -> 46636
T23: =IF(Holidays!A23="","",Holidays!A23) -> 46671
B24: Make your own 2 month calendar with events, photos and more styles: monthly-calendar.com | T24: =IF(Holidays!A24="","",Holidays!A24) -> 46702
T25: =IF(Holidays!A25="","",Holidays!A25) -> 46716
T26: =IF(Holidays!A26="","",Holidays!A26) -> 46745
T27: =IF(Holidays!A27="","",Holidays!A27) -> 46746
T28: =IF(Holidays!A28="","",Holidays!A28) -> 46752
T29: =IF(Holidays!A29="","",Holidays!A29) -> 46753
T30: =IF(Holidays!A30="","",Holidays!A30) -> 46769
T31: =IF(Holidays!A31="","",Holidays!A31) -> 46804
T32: =IF(Holidays!A32="","",Holidays!A32) -> 46902
T33: =IF(Holidays!A33="","",Holidays!A33) -> 46923
T34: =IF(Holidays!A34="","",Holidays!A34) -> 46938
T35: =IF(Holidays!A35="","",Holidays!A35) -> 47000
T36: =IF(Holidays!A36="","",Holidays!A36) -> 47035
... T189: =IF(Holidays!A189="","",Holidays!A189)

Sheet Holidays
A1: Date | B1: Holiday or your own day | G1: How this list works
A2: 46023 | B2: New Year's Day | C2: =IF(A2="","",YEAR(A2)*100+MONTH(A2)) -> 202601 | D2: =IF(A2="","",COUNTIF($C$2:C2,C2)) -> 1 | E2: =IF(A2="","",C2*100+D2) -> 20260101 | G2: US federal holidays 2026 to 2035, including the day off when a holiday falls on a weekend.
A3: 46041 | B3: Martin Luther King Jr. Day | C3: =IF(A3="","",YEAR(A3)*100+MONTH(A3)) -> 202601 | D3: =IF(A3="","",COUNTIF($C$2:C3,C3)) -> 2 | E3: =IF(A3="","",C3*100+D3) -> 20260102 | G3: Add your own days, like birthdays or school breaks, in the empty rows under the list: the date in column A and the name in column B. They turn red on the calendar and show under the month.
A4: 46069 | B4: Presidents' Day | C4: =IF(A4="","",YEAR(A4)*100+MONTH(A4)) -> 202602 | D4: =IF(A4="","",COUNTIF($C$2:C4,C4)) -> 1 | E4: =IF(A4="","",C4*100+D4) -> 20260201 | G4: Keep the list in date order so the names under each month are in order too.
A5: 46167 | B5: Memorial Day | C5: =IF(A5="","",YEAR(A5)*100+MONTH(A5)) -> 202605 | D5: =IF(A5="","",COUNTIF($C$2:C5,C5)) -> 1 | E5: =IF(A5="","",C5*100+D5) -> 20260501
A6: 46192 | B6: Juneteenth | C6: =IF(A6="","",YEAR(A6)*100+MONTH(A6)) -> 202606 | D6: =IF(A6="","",COUNTIF($C$2:C6,C6)) -> 1 | E6: =IF(A6="","",C6*100+D6) -> 20260601
A7: 46206 | B7: Independence Day (observed) | C7: =IF(A7="","",YEAR(A7)*100+MONTH(A7)) -> 202607 | D7: =IF(A7="","",COUNTIF($C$2:C7,C7)) -> 1 | E7: =IF(A7="","",C7*100+D7) -> 20260701
A8: 46207 | B8: Independence Day | C8: =IF(A8="","",YEAR(A8)*100+MONTH(A8)) -> 202607 | D8: =IF(A8="","",COUNTIF($C$2:C8,C8)) -> 2 | E8: =IF(A8="","",C8*100+D8) -> 20260702
A9: 46272 | B9: Labor Day | C9: =IF(A9="","",YEAR(A9)*100+MONTH(A9)) -> 202609 | D9: =IF(A9="","",COUNTIF($C$2:C9,C9)) -> 1 | E9: =IF(A9="","",C9*100+D9) -> 20260901
A10: 46307 | B10: Columbus Day | C10: =IF(A10="","",YEAR(A10)*100+MONTH(A10)) -> 202610 | D10: =IF(A10="","",COUNTIF($C$2:C10,C10)) -> 1 | E10: =IF(A10="","",C10*100+D10) -> 20261001
A11: 46337 | B11: Veterans Day | C11: =IF(A11="","",YEAR(A11)*100+MONTH(A11)) -> 202611 | D11: =IF(A11="","",COUNTIF($C$2:C11,C11)) -> 1 | E11: =IF(A11="","",C11*100+D11) -> 20261101
A12: 46352 | B12: Thanksgiving Day | C12: =IF(A12="","",YEAR(A12)*100+MONTH(A12)) -> 202611 | D12: =IF(A12="","",COUNTIF($C$2:C12,C12)) -> 2 | E12: =IF(A12="","",C12*100+D12) -> 20261102
A13: 46381 | B13: Christmas Day | C13: =IF(A13="","",YEAR(A13)*100+MONTH(A13)) -> 202612 | D13: =IF(A13="","",COUNTIF($C$2:C13,C13)) -> 1 | E13: =IF(A13="","",C13*100+D13) -> 20261201
A14: 46388 | B14: New Year's Day | C14: =IF(A14="","",YEAR(A14)*100+MONTH(A14)) -> 202701 | D14: =IF(A14="","",COUNTIF($C$2:C14,C14)) -> 1 | E14: =IF(A14="","",C14*100+D14) -> 20270101
A15: 46405 | B15: Martin Luther King Jr. Day | C15: =IF(A15="","",YEAR(A15)*100+MONTH(A15)) -> 202701 | D15: =IF(A15="","",COUNTIF($C$2:C15,C15)) -> 2 | E15: =IF(A15="","",C15*100+D15) -> 20270102
A16: 46433 | B16: Presidents' Day | C16: =IF(A16="","",YEAR(A16)*100+MONTH(A16)) -> 202702 | D16: =IF(A16="","",COUNTIF($C$2:C16,C16)) -> 1 | E16: =IF(A16="","",C16*100+D16) -> 20270201
... A129: 49668 | B129: Christmas Day | C129: =IF(A129="","",YEAR(A129)*100+MONTH(A129)) -> 203512 | D129: =IF(A129="","",COUNTIF($C$2:C129,C129)) -> 1 | E129: =IF(A129="","",C129*100+D129) -> 20351201
C130: =IF(A130="","",YEAR(A130)*100+MONTH(A130)) | D130: =IF(A130="","",COUNTIF($C$2:C130,C130)) | E130: =IF(A130="","",C130*100+D130)
C131: =IF(A131="","",YEAR(A131)*100+MONTH(A131)) | D131: =IF(A131="","",COUNTIF($C$2:C131,C131)) | E131: =IF(A131="","",C131*100+D131)
C132: =IF(A132="","",YEAR(A132)*100+MONTH(A132)) | D132: =IF(A132="","",COUNTIF($C$2:C132,C132)) | E132: =IF(A132="","",C132*100+D132)
C133: =IF(A133="","",YEAR(A133)*100+MONTH(A133)) | D133: =IF(A133="","",COUNTIF($C$2:C133,C133)) | E133: =IF(A133="","",C133*100+D133)
C134: =IF(A134="","",YEAR(A134)*100+MONTH(A134)) | D134: =IF(A134="","",COUNTIF($C$2:C134,C134)) | E134: =IF(A134="","",C134*100+D134)
C135: =IF(A135="","",YEAR(A135)*100+MONTH(A135)) | D135: =IF(A135="","",COUNTIF($C$2:C135,C135)) | E135: =IF(A135="","",C135*100+D135)
C136: =IF(A136="","",YEAR(A136)*100+MONTH(A136)) | D136: =IF(A136="","",COUNTIF($C$2:C136,C136)) | E136: =IF(A136="","",C136*100+D136)
C137: =IF(A137="","",YEAR(A137)*100+MONTH(A137)) | D137: =IF(A137="","",COUNTIF($C$2:C137,C137)) | E137: =IF(A137="","",C137*100+D137)
C138: =IF(A138="","",YEAR(A138)*100+MONTH(A138)) | D138: =IF(A138="","",COUNTIF($C$2:C138,C138)) | E138: =IF(A138="","",C138*100+D138)
C139: =IF(A139="","",YEAR(A139)*100+MONTH(A139)) | D139: =IF(A139="","",COUNTIF($C$2:C139,C139)) | E139: =IF(A139="","",C139*100+D139)
C140: =IF(A140="","",YEAR(A140)*100+MONTH(A140)) | D140: =IF(A140="","",COUNTIF($C$2:C140,C140)) | E140: =IF(A140="","",C140*100+D140)
C141: =IF(A141="","",YEAR(A141)*100+MONTH(A141)) | D141: =IF(A141="","",COUNTIF($C$2:C141,C141)) | E141: =IF(A141="","",C141*100+D141)
... C189: =IF(A189="","",YEAR(A189)*100+MONTH(A189)) | D189: =IF(A189="","",COUNTIF($C$2:C189,C189)) | E189: =IF(A189="","",C189*100+D189)

Sheet How to Use
B2: How to use this 2 month calendar
B3: Step 1 | C3: On the "2 Month Calendar" sheet, type a year in the yellow Year cell (C3), for example 2027.
B4: Step 2 | C4: Choose the first month in the yellow cell (F3). The second month follows by itself.
B5: Step 3 | C5: Choose Sunday or Monday in the yellow "Week starts on" cell (K3).
B6: Step 4 | C6: Type your plans in the white space under each date. Holiday dates turn red, and their names are listed under each month.
B7: Step 5 | C7: Print it: File > Print. It is set to fit on one US Letter page in landscape. For A4, change the paper size before printing.
B8: Your own days | C8: Add birthdays, trips or school breaks on the "Holidays" sheet, in the empty rows under the list. They show on the calendar like holidays.
B9: Google Sheets | C9: Upload this file to Google Drive and open it with Google Sheets. The dates and holidays keep working.
B10: Good to know | C10: What you type stays in its box when you change the months, so save a copy of the file for each set of months you plan.
B11: Made by | C11: Monthly-Calendar.com. Free to use for personal, school and work planning.
C13: https://monthly-calendar.com/2-month-calendar/
