Workbook

Sheet Monthly Calendar
B2: Monthly Calendar
B3: Year: | C3: =YEAR(TODAY()) -> 2026 | D3: Month: | E3: =INDEX({"January","February","March","April","May","June","July","August","September","October","November","December"},MONTH(TODAY())) -> October | F3: Week starts on: | G3: Sunday | H3: Change the yellow cells. | J3: =MATCH(E3,{"January","February","March","April","May","June","July","August","September","October","November","December"},0) -> 10
J4: =DATE(C3,J3,1) -> 46296
B5: =J4 -> 46296 | J5: =J4-WEEKDAY(J4,IF(G3="Monday",2,1))+1 -> 46292
B6: =$J$5+0 -> 46292 | C6: =$J$5+1 -> 46293 | D6: =$J$5+2 -> 46294 | E6: =$J$5+3 -> 46295 | F6: =$J$5+4 -> 46296 | G6: =$J$5+5 -> 46297 | H6: =$J$5+6 -> 46298
B7: =$J$5+0 -> 46292 | C7: =$J$5+1 -> 46293 | D7: =$J$5+2 -> 46294 | E7: =$J$5+3 -> 46295 | F7: =$J$5+4 -> 46296 | G7: =$J$5+5 -> 46297 | H7: =$J$5+6 -> 46298
B8: =IF(MONTH(B7)<>$J$3,"",IFERROR(VLOOKUP(B7,Holidays!$A$2:$B$400,2,FALSE),"")) | C8: =IF(MONTH(C7)<>$J$3,"",IFERROR(VLOOKUP(C7,Holidays!$A$2:$B$400,2,FALSE),"")) | D8: =IF(MONTH(D7)<>$J$3,"",IFERROR(VLOOKUP(D7,Holidays!$A$2:$B$400,2,FALSE),"")) | E8: =IF(MONTH(E7)<>$J$3,"",IFERROR(VLOOKUP(E7,Holidays!$A$2:$B$400,2,FALSE),"")) | F8: =IF(MONTH(F7)<>$J$3,"",IFERROR(VLOOKUP(F7,Holidays!$A$2:$B$400,2,FALSE),"")) | G8: =IF(MONTH(G7)<>$J$3,"",IFERROR(VLOOKUP(G7,Holidays!$A$2:$B$400,2,FALSE),"")) | H8: =IF(MONTH(H7)<>$J$3,"",IFERROR(VLOOKUP(H7,Holidays!$A$2:$B$400,2,FALSE),""))
B10: =$J$5+7 -> 46299 | C10: =$J$5+8 -> 46300 | D10: =$J$5+9 -> 46301 | E10: =$J$5+10 -> 46302 | F10: =$J$5+11 -> 46303 | G10: =$J$5+12 -> 46304 | H10: =$J$5+13 -> 46305
B11: =IF(MONTH(B10)<>$J$3,"",IFERROR(VLOOKUP(B10,Holidays!$A$2:$B$400,2,FALSE),"")) | C11: =IF(MONTH(C10)<>$J$3,"",IFERROR(VLOOKUP(C10,Holidays!$A$2:$B$400,2,FALSE),"")) | D11: =IF(MONTH(D10)<>$J$3,"",IFERROR(VLOOKUP(D10,Holidays!$A$2:$B$400,2,FALSE),"")) | E11: =IF(MONTH(E10)<>$J$3,"",IFERROR(VLOOKUP(E10,Holidays!$A$2:$B$400,2,FALSE),"")) | F11: =IF(MONTH(F10)<>$J$3,"",IFERROR(VLOOKUP(F10,Holidays!$A$2:$B$400,2,FALSE),"")) | G11: =IF(MONTH(G10)<>$J$3,"",IFERROR(VLOOKUP(G10,Holidays!$A$2:$B$400,2,FALSE),"")) | H11: =IF(MONTH(H10)<>$J$3,"",IFERROR(VLOOKUP(H10,Holidays!$A$2:$B$400,2,FALSE),""))
B13: =$J$5+14 -> 46306 | C13: =$J$5+15 -> 46307 | D13: =$J$5+16 -> 46308 | E13: =$J$5+17 -> 46309 | F13: =$J$5+18 -> 46310 | G13: =$J$5+19 -> 46311 | H13: =$J$5+20 -> 46312
B14: =IF(MONTH(B13)<>$J$3,"",IFERROR(VLOOKUP(B13,Holidays!$A$2:$B$400,2,FALSE),"")) | C14: =IF(MONTH(C13)<>$J$3,"",IFERROR(VLOOKUP(C13,Holidays!$A$2:$B$400,2,FALSE),"")) -> Columbus Day | D14: =IF(MONTH(D13)<>$J$3,"",IFERROR(VLOOKUP(D13,Holidays!$A$2:$B$400,2,FALSE),"")) | E14: =IF(MONTH(E13)<>$J$3,"",IFERROR(VLOOKUP(E13,Holidays!$A$2:$B$400,2,FALSE),"")) | F14: =IF(MONTH(F13)<>$J$3,"",IFERROR(VLOOKUP(F13,Holidays!$A$2:$B$400,2,FALSE),"")) | G14: =IF(MONTH(G13)<>$J$3,"",IFERROR(VLOOKUP(G13,Holidays!$A$2:$B$400,2,FALSE),"")) | H14: =IF(MONTH(H13)<>$J$3,"",IFERROR(VLOOKUP(H13,Holidays!$A$2:$B$400,2,FALSE),""))
B16: =$J$5+21 -> 46313 | C16: =$J$5+22 -> 46314 | D16: =$J$5+23 -> 46315 | E16: =$J$5+24 -> 46316 | F16: =$J$5+25 -> 46317 | G16: =$J$5+26 -> 46318 | H16: =$J$5+27 -> 46319
B17: =IF(MONTH(B16)<>$J$3,"",IFERROR(VLOOKUP(B16,Holidays!$A$2:$B$400,2,FALSE),"")) | C17: =IF(MONTH(C16)<>$J$3,"",IFERROR(VLOOKUP(C16,Holidays!$A$2:$B$400,2,FALSE),"")) | D17: =IF(MONTH(D16)<>$J$3,"",IFERROR(VLOOKUP(D16,Holidays!$A$2:$B$400,2,FALSE),"")) | E17: =IF(MONTH(E16)<>$J$3,"",IFERROR(VLOOKUP(E16,Holidays!$A$2:$B$400,2,FALSE),"")) | F17: =IF(MONTH(F16)<>$J$3,"",IFERROR(VLOOKUP(F16,Holidays!$A$2:$B$400,2,FALSE),"")) | G17: =IF(MONTH(G16)<>$J$3,"",IFERROR(VLOOKUP(G16,Holidays!$A$2:$B$400,2,FALSE),"")) | H17: =IF(MONTH(H16)<>$J$3,"",IFERROR(VLOOKUP(H16,Holidays!$A$2:$B$400,2,FALSE),""))
B19: =$J$5+28 -> 46320 | C19: =$J$5+29 -> 46321 | D19: =$J$5+30 -> 46322 | E19: =$J$5+31 -> 46323 | F19: =$J$5+32 -> 46324 | G19: =$J$5+33 -> 46325 | H19: =$J$5+34 -> 46326
B20: =IF(MONTH(B19)<>$J$3,"",IFERROR(VLOOKUP(B19,Holidays!$A$2:$B$400,2,FALSE),"")) | C20: =IF(MONTH(C19)<>$J$3,"",IFERROR(VLOOKUP(C19,Holidays!$A$2:$B$400,2,FALSE),"")) | D20: =IF(MONTH(D19)<>$J$3,"",IFERROR(VLOOKUP(D19,Holidays!$A$2:$B$400,2,FALSE),"")) | E20: =IF(MONTH(E19)<>$J$3,"",IFERROR(VLOOKUP(E19,Holidays!$A$2:$B$400,2,FALSE),"")) | F20: =IF(MONTH(F19)<>$J$3,"",IFERROR(VLOOKUP(F19,Holidays!$A$2:$B$400,2,FALSE),"")) | G20: =IF(MONTH(G19)<>$J$3,"",IFERROR(VLOOKUP(G19,Holidays!$A$2:$B$400,2,FALSE),"")) | H20: =IF(MONTH(H19)<>$J$3,"",IFERROR(VLOOKUP(H19,Holidays!$A$2:$B$400,2,FALSE),""))
B22: =$J$5+35 -> 46327 | C22: =$J$5+36 -> 46328 | D22: =$J$5+37 -> 46329 | E22: =$J$5+38 -> 46330 | F22: =$J$5+39 -> 46331 | G22: =$J$5+40 -> 46332 | H22: =$J$5+41 -> 46333
B23: =IF(MONTH(B22)<>$J$3,"",IFERROR(VLOOKUP(B22,Holidays!$A$2:$B$400,2,FALSE),"")) | C23: =IF(MONTH(C22)<>$J$3,"",IFERROR(VLOOKUP(C22,Holidays!$A$2:$B$400,2,FALSE),"")) | D23: =IF(MONTH(D22)<>$J$3,"",IFERROR(VLOOKUP(D22,Holidays!$A$2:$B$400,2,FALSE),"")) | E23: =IF(MONTH(E22)<>$J$3,"",IFERROR(VLOOKUP(E22,Holidays!$A$2:$B$400,2,FALSE),"")) | F23: =IF(MONTH(F22)<>$J$3,"",IFERROR(VLOOKUP(F22,Holidays!$A$2:$B$400,2,FALSE),"")) | G23: =IF(MONTH(G22)<>$J$3,"",IFERROR(VLOOKUP(G22,Holidays!$A$2:$B$400,2,FALSE),"")) | H23: =IF(MONTH(H22)<>$J$3,"",IFERROR(VLOOKUP(H22,Holidays!$A$2:$B$400,2,FALSE),""))
B26: Notes
B31: Make a custom calendar with your own events and photos: monthly-calendar.com

Sheet Holidays
A1: Date | B1: Holiday
A2: 46023 | B2: New Year's Day
A3: 46041 | B3: Martin Luther King Jr. Day
A4: 46069 | B4: Presidents' Day
A5: 46167 | B5: Memorial Day
A6: 46192 | B6: Juneteenth
A7: 46206 | B7: Independence Day (observed)
A8: 46207 | B8: Independence Day
A9: 46272 | B9: Labor Day
A10: 46307 | B10: Columbus Day
A11: 46337 | B11: Veterans Day
A12: 46352 | B12: Thanksgiving Day
A13: 46381 | B13: Christmas Day
... A129: 49668 | B129: Christmas Day
A131: US federal holidays 2026 to 2035, including the observed day off when a holiday falls on a weekend. Add your own dates and names below this line and they show on the calendar.

Sheet How to Use
B2: How to use this monthly calendar
B3: Step 1 | C3: On the "Monthly Calendar" sheet, type a year in the yellow Year cell (C3), for example 2027.
B4: Step 2 | C4: Choose a month in the yellow Month cell (E3). The dates and US federal holidays update by themselves.
B5: Step 3 | C5: Choose Sunday or Monday in the yellow "Week starts on" cell (G3).
B6: Step 4 | C6: Type your plans in the white space under each date, and use the Notes box at the bottom.
B7: Step 5 | C7: Print it: File > Print. It is set to fit on one US Letter page in landscape. For A4, change the paper size before printing.
B8: Your own days | C8: Add birthdays or school days at the bottom of the "Holidays" sheet (date in column A, name in column B). They show on the calendar like holidays.
B9: Google Sheets | C9: Upload this file to Google Drive and open it with Google Sheets. The dates and holidays keep working.
B10: Good to know | C10: Your typed plans stay in their boxes when you change the month, so save a copy of the file for each month you plan.
B11: Made by | C11: Monthly-Calendar.com. Free to use for personal, school and work planning.
B13: https://monthly-calendar.com/custom-calendar/
